BEGIN:VCALENDAR
PRODID:-//eluceo/ical//2.0/EN
VERSION:2.0
CALSCALE:GREGORIAN
BEGIN:VEVENT
UID:b262a034174ae16ce92e39ebc98213d4
DTSTAMP:20260420T084107Z
SUMMARY:Virtuelle Fragestunde: Wissenschaftsbotschafter/innen in Kindergär
 ten
DTSTART:20251111T160000
DTEND:20251111T170000
END:VEVENT
END:VCALENDAR
