BEGIN:VCALENDAR
PRODID:-//eluceo/ical//2.0/EN
VERSION:2.0
CALSCALE:GREGORIAN
BEGIN:VEVENT
UID:e460be8e65ad04e268ce9acf57e9d2a1
DTSTAMP:20260420T084123Z
SUMMARY:Impulse für die Zukunft. Wie Bildungs- und Demokratieinitiativen S
 chulen nachhaltig verändern
DTSTART:20251118T150000
DTEND:20251118T163000
END:VEVENT
END:VCALENDAR
